BEGIN:VCALENDAR
VERSION:2.0
PRODID:-//wp-events-plugin.com//7.2.3.1//EN
BEGIN:VEVENT
UID:237@themadhatteroxford.com
DTSTART:20260424T190000Z
DTEND:20260424T234500Z
DTSTAMP:20260326T112234Z
URL:https://themadhatteroxford.com/events-2/the-countermeasures-indie-rock
 -covers-band/
SUMMARY:The Countermeasures - Indie & Rock Covers Band!
DESCRIPTION:Get ready for a night of high-octane indie and rock anthems as 
 The Countermeasures take over the stage at The Mad Hatter!\nComing straigh
 t from Reading\, this professional covers band is known for their punchy s
 ets and infectious energy. If you’re a fan of guitar-driven hits and a r
 oom that’s absolutely buzzing\, this is where you need to be.\nExpect to
  hear favorites from:\n🔥 Arctic Monkeys\n🔥 The Strokes\n🔥 Radiohe
 ad\n🔥 Red Hot Chili Peppers\n🔥 Fontaines D.C.\n...and many more!\nWh
 ether you're there for the nostalgia or just want to discover your new fav
 orite live act\, come down\, grab a drink\, and let the music take over.\n
 📅 EVENT DETAILS:\nWhen: April 24th\nWhere: The Mad Hatter\, Oxford\nEnt
 ry: FREE! 🎟️\nVibe: Indie\, Rock\, and pure energy.\nCheck out the ba
 nd here: thecountermeasures.live
ATTACH;FMTTYPE=image/jpeg:https://themadhatteroxford.com/wp-content/upload
 s/2026/03/The-Countermeasures-2.png
END:VEVENT
END:VCALENDAR