BEGIN:VCALENDAR
VERSION:2.0
PRODID:-//wp-events-plugin.com//7.2.3.1//EN
BEGIN:VEVENT
UID:236@themadhatteroxford.com
DTSTART:20260410T193000Z
DTEND:20260410T234500Z
DTSTAMP:20260326T112051Z
URL:https://themadhatteroxford.com/events-2/flow-soundsystem/
SUMMARY:Flow Soundsystem
DESCRIPTION:Join the Flow Soundsystem as they bring the deep\, warm sounds 
 of old-school house\, trance and techno to the heart of Oxford. They aren
 ’t just bringing the records—they’re bringing the heat with our cust
 om hi-fidelity sound system\, designed to let you hear every pop\, crackle
 \, and bassline exactly as intended.\nNo controllers\, no sync buttons—j
 ust pure vinyl selection and high-end audio all night long.\nOn the decks:
 \n🎧 CHARLIE\n🎧 LIL’ CAM\n🎧 WAT TYLER\n📅 EVENT DETAILS:\nWhen
 : April 10th\, 2026\nTime: 19:30 – 00:00\nWhere: The Mad Hatter\, Oxford
 \nSound: Custom Hi-Fidelity Rig 🔊\nEntry: £5 Tickets (Available Online
  - link coming soon/At Door)\n\nFollow the Collective:\n🔗 facebook.com/
 flow.soundsystemoxford
ATTACH;FMTTYPE=image/jpeg:https://themadhatteroxford.com/wp-content/upload
 s/2026/03/The-Countermeasures-flow-2.png
END:VEVENT
END:VCALENDAR